Package: tidySummarizedExperiment Version: 1.14.0 Command: /Library/Frameworks/R.framework/Resources/bin/R CMD build --keep-empty-dirs --no-resave-data tidySummarizedExperiment StartedAt: 2024-10-16 23:58:27 -0400 (Wed, 16 Oct 2024) EndedAt: 2024-10-17 00:00:05 -0400 (Thu, 17 Oct 2024) EllapsedTime: 97.9 seconds RetCode: 0 Status: OK PackageFile: tidySummarizedExperiment_1.14.0.tar.gz PackageFileSize: 363.7 KiB