Package: tidySummarizedExperiment Version: 1.14.0 Command: rm -rf tidySummarizedExperiment.buildbin-libdir && mkdir tidySummarizedExperiment.buildbin-libdir && /Users/biocbuild/BBS/utils/build-universal.sh tidySummarizedExperiment_1.14.0.tar.gz /Library/Frameworks/R.framework/Resources/bin/R tidySummarizedExperiment.buildbin-libdir StartedAt: 2024-10-17 17:21:29 -0400 (Thu, 17 Oct 2024) EndedAt: 2024-10-17 17:22:34 -0400 (Thu, 17 Oct 2024) EllapsedTime: 65.2 seconds RetCode: 0 Status: OK PackageFile: tidySummarizedExperiment_1.14.0.tgz PackageFileSize: 665.8 KiB