Package: tidySummarizedExperiment Version: 1.14.0 Command: /home/biocbuild/R/R-beta-2024-04-15_r86425/bin/R CMD build --keep-empty-dirs --no-resave-data tidySummarizedExperiment StartedAt: 2024-05-09 04:07:10 -0000 (Thu, 09 May 2024) EndedAt: 2024-05-09 04:08:03 -0000 (Thu, 09 May 2024) EllapsedTime: 53.1 seconds RetCode: 0 Status: OK PackageFile: tidySummarizedExperiment_1.14.0.tar.gz PackageFileSize: 340 KiB