Package: tidySummarizedExperiment Version: 1.14.0 Command: /Library/Frameworks/R.framework/Resources/bin/R CMD build --keep-empty-dirs --no-resave-data tidySummarizedExperiment StartedAt: 2024-06-10 05:58:09 -0400 (Mon, 10 Jun 2024) EndedAt: 2024-06-10 05:59:16 -0400 (Mon, 10 Jun 2024) EllapsedTime: 66.7 seconds RetCode: 0 Status: OK PackageFile: tidySummarizedExperiment_1.14.0.tar.gz PackageFileSize: 366.3 KiB