Package: tidySpatialExperiment Version: 1.0.0 Command: chmod a+r tidySpatialExperiment -R && F:\biocbuild\bbs-3.19-bioc\R\bin\R.exe CMD build --keep-empty-dirs --no-resave-data tidySpatialExperiment StartedAt: 2024-06-26 22:22:12 -0400 (Wed, 26 Jun 2024) EndedAt: 2024-06-26 22:23:21 -0400 (Wed, 26 Jun 2024) EllapsedTime: 68.8 seconds RetCode: 0 Status: OK PackageFile: tidySpatialExperiment_1.0.0.tar.gz PackageFileSize: 805.1 KiB