Package: tidySpatialExperiment Version: 1.0.0 Command: /Library/Frameworks/R.framework/Resources/bin/R CMD check --install=check:tidySpatialExperiment.install-out.txt --library=/Library/Frameworks/R.framework/Resources/library --no-vignettes --timings tidySpatialExperiment_1.0.0.tar.gz StartedAt: 2024-10-17 14:21:51 -0400 (Thu, 17 Oct 2024) EndedAt: 2024-10-17 14:33:05 -0400 (Thu, 17 Oct 2024) EllapsedTime: 674.1 seconds RetCode: 0 Status: OK CheckDir: tidySpatialExperiment.Rcheck Warnings: 0