Package: tidySpatialExperiment Version: 1.0.0 Command: /Library/Frameworks/R.framework/Resources/bin/R CMD build --keep-empty-dirs --no-resave-data tidySpatialExperiment StartedAt: 2024-06-09 18:25:53 -0400 (Sun, 09 Jun 2024) EndedAt: 2024-06-09 18:26:43 -0400 (Sun, 09 Jun 2024) EllapsedTime: 50.7 seconds RetCode: 0 Status: OK PackageFile: tidySpatialExperiment_1.0.0.tar.gz PackageFileSize: 856.6 KiB