Package: tidySpatialExperiment Version: 1.0.0 Command: /home/biocbuild/R/R-beta-2024-04-15_r86425/bin/R CMD check --install=check:tidySpatialExperiment.install-out.txt --library=/home/biocbuild/R/R-beta-2024-04-15_r86425/site-library --no-vignettes --timings tidySpatialExperiment_1.0.0.tar.gz StartedAt: 2024-05-08 12:41:39 -0000 (Wed, 08 May 2024) EndedAt: 2024-05-08 12:47:41 -0000 (Wed, 08 May 2024) EllapsedTime: 362.6 seconds RetCode: 0 Status: OK CheckDir: tidySpatialExperiment.Rcheck Warnings: 0