Package: tidySpatialExperiment Version: 1.0.0 Command: /Library/Frameworks/R.framework/Resources/bin/R CMD check --install=check:tidySpatialExperiment.install-out.txt --library=/Library/Frameworks/R.framework/Resources/library --no-vignettes --timings tidySpatialExperiment_1.0.0.tar.gz StartedAt: 2024-06-11 08:14:51 -0400 (Tue, 11 Jun 2024) EndedAt: 2024-06-11 08:22:32 -0400 (Tue, 11 Jun 2024) EllapsedTime: 461.2 seconds RetCode: 0 Status: OK CheckDir: tidySpatialExperiment.Rcheck Warnings: 0