Package: tidySpatialExperiment Version: 1.0.0 Command: rm -rf tidySpatialExperiment.buildbin-libdir && mkdir tidySpatialExperiment.buildbin-libdir && /Users/biocbuild/BBS/utils/build-universal.sh tidySpatialExperiment_1.0.0.tar.gz /Library/Frameworks/R.framework/Resources/bin/R tidySpatialExperiment.buildbin-libdir StartedAt: 2024-10-15 20:37:50 -0400 (Tue, 15 Oct 2024) EndedAt: 2024-10-15 20:38:30 -0400 (Tue, 15 Oct 2024) EllapsedTime: 40.8 seconds RetCode: 0 Status: OK PackageFile: tidySpatialExperiment_1.0.0.tgz PackageFileSize: 1.04 MiB