Package: tidySingleCellExperiment Version: 1.14.0 Command: chmod a+r tidySingleCellExperiment -R && F:\biocbuild\bbs-3.19-bioc\R\bin\R.exe CMD build --keep-empty-dirs --no-resave-data tidySingleCellExperiment StartedAt: 2024-06-26 22:22:04 -0400 (Wed, 26 Jun 2024) EndedAt: 2024-06-26 22:23:55 -0400 (Wed, 26 Jun 2024) EllapsedTime: 110.5 seconds RetCode: 0 Status: OK PackageFile: tidySingleCellExperiment_1.14.0.tar.gz PackageFileSize: 1.231 MiB