Package: tidySingleCellExperiment Version: 1.14.0 Command: /home/biocbuild/bbs-3.19-bioc/R/bin/R CMD build --keep-empty-dirs --no-resave-data tidySingleCellExperiment StartedAt: 2024-10-16 21:10:32 -0400 (Wed, 16 Oct 2024) EndedAt: 2024-10-16 21:11:46 -0400 (Wed, 16 Oct 2024) EllapsedTime: 74.1 seconds RetCode: 0 Status: OK PackageFile: tidySingleCellExperiment_1.14.0.tar.gz PackageFileSize: 1.637 MiB