Package: tidySingleCellExperiment Version: 1.14.0 Command: /Library/Frameworks/R.framework/Resources/bin/R CMD build --keep-empty-dirs --no-resave-data tidySingleCellExperiment StartedAt: 2024-10-16 23:57:29 -0400 (Wed, 16 Oct 2024) EndedAt: 2024-10-17 00:00:29 -0400 (Thu, 17 Oct 2024) EllapsedTime: 179.2 seconds RetCode: 0 Status: OK PackageFile: tidySingleCellExperiment_1.14.0.tar.gz PackageFileSize: 1.812 MiB