Package: tidySingleCellExperiment Version: 1.14.0 Command: /home/biocbuild/R/R-beta-2024-04-15_r86425/bin/R CMD INSTALL tidySingleCellExperiment StartedAt: 2024-05-08 20:37:40 -0000 (Wed, 08 May 2024) EndedAt: 2024-05-08 20:38:19 -0000 (Wed, 08 May 2024) EllapsedTime: 38.9 seconds RetCode: 0 Status: OK