Package: tidySingleCellExperiment Version: 1.14.0 Command: rm -rf tidySingleCellExperiment.buildbin-libdir && mkdir tidySingleCellExperiment.buildbin-libdir && /Users/biocbuild/BBS/utils/build-universal.sh tidySingleCellExperiment_1.14.0.tar.gz /Library/Frameworks/R.framework/Resources/bin/R tidySingleCellExperiment.buildbin-libdir StartedAt: 2024-06-11 13:32:41 -0400 (Tue, 11 Jun 2024) EndedAt: 2024-06-11 13:33:44 -0400 (Tue, 11 Jun 2024) EllapsedTime: 62.8 seconds RetCode: 0 Status: OK PackageFile: tidySingleCellExperiment_1.14.0.tgz PackageFileSize: 2.081 MiB