Package: tidySingleCellExperiment Version: 1.14.0 Command: rm -rf tidySingleCellExperiment.buildbin-libdir && mkdir tidySingleCellExperiment.buildbin-libdir && /Users/biocbuild/BBS/utils/build-universal.sh tidySingleCellExperiment_1.14.0.tar.gz /Library/Frameworks/R.framework/Resources/bin/R tidySingleCellExperiment.buildbin-libdir StartedAt: 2024-10-15 20:37:43 -0400 (Tue, 15 Oct 2024) EndedAt: 2024-10-15 20:38:24 -0400 (Tue, 15 Oct 2024) EllapsedTime: 40.8 seconds RetCode: 0 Status: OK PackageFile: tidySingleCellExperiment_1.14.0.tgz PackageFileSize: 2.09 MiB