Package: tidyCoverage Version: 1.0.0 Command: /home/biocbuild/bbs-3.19-bioc/R/bin/R CMD check --install=check:tidyCoverage.install-out.txt --library=/home/biocbuild/bbs-3.19-bioc/R/site-library --timings tidyCoverage_1.0.0.tar.gz StartedAt: 2024-10-17 05:51:57 -0400 (Thu, 17 Oct 2024) EndedAt: 2024-10-17 05:58:53 -0400 (Thu, 17 Oct 2024) EllapsedTime: 415.8 seconds RetCode: 0 Status: OK CheckDir: tidyCoverage.Rcheck Warnings: 0