Package: tidyCoverage Version: 1.0.0 Command: /home/biocbuild/bbs-3.19-bioc/R/bin/R CMD build --keep-empty-dirs --no-resave-data tidyCoverage StartedAt: 2024-10-16 21:09:53 -0400 (Wed, 16 Oct 2024) EndedAt: 2024-10-16 21:12:39 -0400 (Wed, 16 Oct 2024) EllapsedTime: 166.3 seconds RetCode: 0 Status: OK PackageFile: tidyCoverage_1.0.0.tar.gz PackageFileSize: 3.755 MiB