Package: tidyCoverage Version: 1.0.0 Command: /Library/Frameworks/R.framework/Resources/bin/R CMD INSTALL tidyCoverage StartedAt: 2024-10-16 15:34:23 -0400 (Wed, 16 Oct 2024) EndedAt: 2024-10-16 15:35:40 -0400 (Wed, 16 Oct 2024) EllapsedTime: 77.3 seconds RetCode: 0 Status: OK