Package: tidyCoverage Version: 1.0.0 Command: /Library/Frameworks/R.framework/Resources/bin/R CMD build --keep-empty-dirs --no-resave-data tidyCoverage StartedAt: 2024-10-16 23:57:10 -0400 (Wed, 16 Oct 2024) EndedAt: 2024-10-17 00:03:38 -0400 (Thu, 17 Oct 2024) EllapsedTime: 387.8 seconds RetCode: 0 Status: OK PackageFile: tidyCoverage_1.0.0.tar.gz PackageFileSize: 3.954 MiB