Package: tidyCoverage Version: 1.0.0 Command: rm -rf tidyCoverage.buildbin-libdir && mkdir tidyCoverage.buildbin-libdir && /Users/biocbuild/BBS/utils/build-universal.sh tidyCoverage_1.0.0.tar.gz /Library/Frameworks/R.framework/Resources/bin/R tidyCoverage.buildbin-libdir StartedAt: 2024-10-17 17:21:07 -0400 (Thu, 17 Oct 2024) EndedAt: 2024-10-17 17:22:28 -0400 (Thu, 17 Oct 2024) EllapsedTime: 81.3 seconds RetCode: 0 Status: OK PackageFile: tidyCoverage_1.0.0.tgz PackageFileSize: 4.232 MiB