Package: tidyCoverage Version: 1.0.0 Command: rm -rf tidyCoverage.buildbin-libdir && mkdir tidyCoverage.buildbin-libdir && /Users/biocbuild/BBS/utils/build-universal.sh tidyCoverage_1.0.0.tar.gz /Library/Frameworks/R.framework/Resources/bin/R tidyCoverage.buildbin-libdir StartedAt: 2024-10-15 20:37:01 -0400 (Tue, 15 Oct 2024) EndedAt: 2024-10-15 20:37:50 -0400 (Tue, 15 Oct 2024) EllapsedTime: 48.6 seconds RetCode: 0 Status: OK PackageFile: tidyCoverage_1.0.0.tgz PackageFileSize: 4.231 MiB