Package: terraTCGAdata Version: 1.8.0 Command: /Library/Frameworks/R.framework/Resources/bin/R CMD INSTALL terraTCGAdata StartedAt: 2024-10-16 15:59:32 -0400 (Wed, 16 Oct 2024) EndedAt: 2024-10-16 16:00:28 -0400 (Wed, 16 Oct 2024) EllapsedTime: 55.7 seconds RetCode: 0 Status: OK