Package: ternarynet Version: 1.48.0 Command: chmod a+r ternarynet -R && E:\biocbuild\bbs-3.19-bioc\R\bin\R.exe CMD build --keep-empty-dirs --no-resave-data ternarynet StartedAt: 2024-10-16 22:19:20 -0400 (Wed, 16 Oct 2024) EndedAt: 2024-10-16 22:19:52 -0400 (Wed, 16 Oct 2024) EllapsedTime: 32.3 seconds RetCode: 0 Status: OK PackageFile: ternarynet_1.48.0.tar.gz PackageFileSize: 151.2 KiB