Package: ternarynet Version: 1.48.0 Command: /home/biocbuild/R/R-beta-2024-04-15_r86425/bin/R CMD build --keep-empty-dirs --no-resave-data ternarynet StartedAt: 2024-05-09 04:04:59 -0000 (Thu, 09 May 2024) EndedAt: 2024-05-09 04:05:15 -0000 (Thu, 09 May 2024) EllapsedTime: 16.0 seconds RetCode: 0 Status: OK PackageFile: ternarynet_1.48.0.tar.gz PackageFileSize: 259.3 KiB