Package: tenXplore Version: 1.26.2 Command: chmod a+r tenXplore -R && E:\biocbuild\bbs-3.19-bioc\R\bin\R.exe CMD build --keep-empty-dirs --no-resave-data tenXplore StartedAt: 2024-10-16 22:19:14 -0400 (Wed, 16 Oct 2024) EndedAt: 2024-10-16 22:20:15 -0400 (Wed, 16 Oct 2024) EllapsedTime: 61.0 seconds RetCode: 0 Status: OK PackageFile: tenXplore_1.26.2.tar.gz PackageFileSize: 2.434 MiB