Package: tenXplore Version: 1.26.2 Command: rm -rf tenXplore.buildbin-libdir && mkdir tenXplore.buildbin-libdir && E:\biocbuild\bbs-3.19-bioc\R\bin\R.exe CMD INSTALL --build --library=tenXplore.buildbin-libdir tenXplore_1.26.2.tar.gz StartedAt: 2024-10-17 08:46:18 -0400 (Thu, 17 Oct 2024) EndedAt: 2024-10-17 08:47:02 -0400 (Thu, 17 Oct 2024) EllapsedTime: 43.8 seconds RetCode: 0 Status: OK PackageFile: tenXplore_1.26.2.zip PackageFileSize: 2.185 MiB