Package: tenXplore Version: 1.26.2 Maintainer: VJ Carey MaintainerEmail: stvjc at channing.harvard.edu git_url: https://git.bioconductor.org/packages/tenXplore git_branch: RELEASE_3_19 git_last_commit: c559a61 git_last_commit_date: 2024-08-03 06:01:52 -0400 (Sat, 03 Aug 2024)