Package: target Version: 1.18.0 Command: rm -rf target.buildbin-libdir && mkdir target.buildbin-libdir && E:\biocbuild\bbs-3.19-bioc\R\bin\R.exe CMD INSTALL --build --library=target.buildbin-libdir target_1.18.0.tar.gz StartedAt: 2024-10-17 08:45:46 -0400 (Thu, 17 Oct 2024) EndedAt: 2024-10-17 08:46:05 -0400 (Thu, 17 Oct 2024) EllapsedTime: 18.8 seconds RetCode: 0 Status: OK PackageFile: target_1.18.0.zip PackageFileSize: 3.128 MiB