Package: target Version: 1.18.0 Command: rm -rf target.buildbin-libdir && mkdir target.buildbin-libdir && F:\biocbuild\bbs-3.19-bioc\R\bin\R.exe CMD INSTALL --build --library=target.buildbin-libdir target_1.18.0.tar.gz StartedAt: 2024-06-27 09:01:45 -0400 (Thu, 27 Jun 2024) EndedAt: 2024-06-27 09:02:11 -0400 (Thu, 27 Jun 2024) EllapsedTime: 26.0 seconds RetCode: 0 Status: OK PackageFile: target_1.18.0.zip PackageFileSize: 3.128 MiB