Package: target Version: 1.18.0 Command: /Library/Frameworks/R.framework/Resources/bin/R CMD INSTALL target StartedAt: 2024-06-09 15:37:35 -0400 (Sun, 09 Jun 2024) EndedAt: 2024-06-09 15:37:49 -0400 (Sun, 09 Jun 2024) EllapsedTime: 14.3 seconds RetCode: 0 Status: OK