Package: target Version: 1.18.0 Command: /home/biocbuild/R/R-beta-2024-04-15_r86425/bin/R CMD build --keep-empty-dirs --no-resave-data target StartedAt: 2024-05-09 04:02:59 -0000 (Thu, 09 May 2024) EndedAt: 2024-05-09 04:04:00 -0000 (Thu, 09 May 2024) EllapsedTime: 61.1 seconds RetCode: 0 Status: OK PackageFile: target_1.18.0.tar.gz PackageFileSize: 2.952 MiB