Package: target Version: 1.18.0 Command: /Library/Frameworks/R.framework/Resources/bin/R CMD build --keep-empty-dirs --no-resave-data target StartedAt: 2024-10-17 10:31:52 -0400 (Thu, 17 Oct 2024) EndedAt: 2024-10-17 10:32:45 -0400 (Thu, 17 Oct 2024) EllapsedTime: 53.8 seconds RetCode: 0 Status: OK PackageFile: target_1.18.0.tar.gz PackageFileSize: 3.08 MiB