Package: target Version: 1.18.0 Command: rm -rf target.buildbin-libdir && mkdir target.buildbin-libdir && /Users/biocbuild/BBS/utils/build-universal.sh target_1.18.0.tar.gz /Library/Frameworks/R.framework/Resources/bin/R target.buildbin-libdir StartedAt: 2024-10-15 20:35:11 -0400 (Tue, 15 Oct 2024) EndedAt: 2024-10-15 20:35:29 -0400 (Tue, 15 Oct 2024) EllapsedTime: 17.2 seconds RetCode: 0 Status: OK PackageFile: target_1.18.0.tgz PackageFileSize: 3.336 MiB