Package: tanggle Version: 1.10.0 Command: rm -rf tanggle.buildbin-libdir && mkdir tanggle.buildbin-libdir && E:\biocbuild\bbs-3.19-bioc\R\bin\R.exe CMD INSTALL --build --library=tanggle.buildbin-libdir tanggle_1.10.0.tar.gz StartedAt: 2024-10-17 08:45:42 -0400 (Thu, 17 Oct 2024) EndedAt: 2024-10-17 08:45:58 -0400 (Thu, 17 Oct 2024) EllapsedTime: 15.8 seconds RetCode: 0 Status: OK PackageFile: tanggle_1.10.0.zip PackageFileSize: 1.177 MiB