Package: tanggle Version: 1.10.0 Maintainer: Klaus Schliep MaintainerEmail: klaus.schliep at gmail.com git_url: https://git.bioconductor.org/packages/tanggle git_branch: RELEASE_3_19 git_last_commit: fcad6f3 git_last_commit_date: 2024-04-30 11:36:53 -0400 (Tue, 30 Apr 2024)