Package: tadar Version: 1.2.1 Command: E:\biocbuild\bbs-3.19-bioc\R\bin\R.exe CMD INSTALL tadar StartedAt: 2024-10-16 16:48:18 -0400 (Wed, 16 Oct 2024) EndedAt: 2024-10-16 16:49:13 -0400 (Wed, 16 Oct 2024) EllapsedTime: 54.3 seconds RetCode: 0 Status: OK