Package: tadar Version: 1.2.1 Command: E:\biocbuild\bbs-3.19-bioc\R\bin\R.exe CMD check --no-multiarch --install=check:tadar.install-out.txt --library=E:\biocbuild\bbs-3.19-bioc\R\library --no-vignettes --timings tadar_1.2.1.tar.gz StartedAt: 2024-10-17 06:24:00 -0400 (Thu, 17 Oct 2024) EndedAt: 2024-10-17 06:32:33 -0400 (Thu, 17 Oct 2024) EllapsedTime: 513.0 seconds RetCode: 0 Status: OK CheckDir: tadar.Rcheck Warnings: 0