Package: tadar Version: 1.2.1 Command: chmod a+r tadar -R && E:\biocbuild\bbs-3.19-bioc\R\bin\R.exe CMD build --keep-empty-dirs --no-resave-data tadar StartedAt: 2024-10-16 22:17:10 -0400 (Wed, 16 Oct 2024) EndedAt: 2024-10-16 22:18:55 -0400 (Wed, 16 Oct 2024) EllapsedTime: 105.0 seconds RetCode: 0 Status: OK PackageFile: tadar_1.2.1.tar.gz PackageFileSize: 1.27 MiB