Package: tadar Version: 1.2.1 Command: chmod a+r tadar -R && F:\biocbuild\bbs-3.19-bioc\R\bin\R.exe CMD build --keep-empty-dirs --no-resave-data tadar StartedAt: 2024-06-26 22:19:03 -0400 (Wed, 26 Jun 2024) EndedAt: 2024-06-26 22:20:56 -0400 (Wed, 26 Jun 2024) EllapsedTime: 113.4 seconds RetCode: 0 Status: OK PackageFile: tadar_1.2.1.tar.gz PackageFileSize: 1.27 MiB