Package: tadar Version: 1.2.1 Command: rm -rf tadar.buildbin-libdir && mkdir tadar.buildbin-libdir && F:\biocbuild\bbs-3.19-bioc\R\bin\R.exe CMD INSTALL --build --library=tadar.buildbin-libdir tadar_1.2.1.tar.gz StartedAt: 2024-06-27 09:01:38 -0400 (Thu, 27 Jun 2024) EndedAt: 2024-06-27 09:02:42 -0400 (Thu, 27 Jun 2024) EllapsedTime: 64.0 seconds RetCode: 0 Status: OK PackageFile: tadar_1.2.1.zip PackageFileSize: 1.039 MiB