Package: tadar Version: 1.2.1 Command: /home/biocbuild/bbs-3.19-bioc/R/bin/R CMD INSTALL tadar StartedAt: 2024-10-16 16:22:44 -0400 (Wed, 16 Oct 2024) EndedAt: 2024-10-16 16:23:33 -0400 (Wed, 16 Oct 2024) EllapsedTime: 49.1 seconds RetCode: 0 Status: OK