Package: tadar Version: 1.2.1 Command: /home/biocbuild/bbs-3.19-bioc/R/bin/R CMD check --install=check:tadar.install-out.txt --library=/home/biocbuild/bbs-3.19-bioc/R/site-library --timings tadar_1.2.1.tar.gz StartedAt: 2024-10-17 05:46:02 -0400 (Thu, 17 Oct 2024) EndedAt: 2024-10-17 05:53:52 -0400 (Thu, 17 Oct 2024) EllapsedTime: 470.0 seconds RetCode: 0 Status: OK CheckDir: tadar.Rcheck Warnings: 0