Package: tadar Version: 1.2.1 Command: /Library/Frameworks/R.framework/Resources/bin/R CMD INSTALL tadar StartedAt: 2024-10-16 16:05:51 -0400 (Wed, 16 Oct 2024) EndedAt: 2024-10-16 16:07:40 -0400 (Wed, 16 Oct 2024) EllapsedTime: 109.7 seconds RetCode: 0 Status: OK