Package: tadar Version: 1.2.1 Command: /Library/Frameworks/R.framework/Resources/bin/R CMD build --keep-empty-dirs --no-resave-data tadar StartedAt: 2024-10-16 23:53:04 -0400 (Wed, 16 Oct 2024) EndedAt: 2024-10-16 23:56:26 -0400 (Wed, 16 Oct 2024) EllapsedTime: 202.4 seconds RetCode: 0 Status: OK PackageFile: tadar_1.2.1.tar.gz PackageFileSize: 1.69 MiB