Package: tadar Version: 1.2.0 Command: /Library/Frameworks/R.framework/Resources/bin/R CMD INSTALL tadar StartedAt: 2024-06-09 16:27:51 -0400 (Sun, 09 Jun 2024) EndedAt: 2024-06-09 16:29:07 -0400 (Sun, 09 Jun 2024) EllapsedTime: 75.7 seconds RetCode: 0 Status: OK