Package: tadar Version: 1.2.0 Command: /Library/Frameworks/R.framework/Resources/bin/R CMD check --install=check:tadar.install-out.txt --library=/Library/Frameworks/R.framework/Resources/library --no-vignettes --timings tadar_1.2.0.tar.gz StartedAt: 2024-06-11 07:48:04 -0400 (Tue, 11 Jun 2024) EndedAt: 2024-06-11 08:03:03 -0400 (Tue, 11 Jun 2024) EllapsedTime: 899.3 seconds RetCode: 1 Status: ERROR CheckDir: tadar.Rcheck Warnings: NA