Package: tadar Version: 1.2.0 Command: /Library/Frameworks/R.framework/Resources/bin/R CMD build --keep-empty-dirs --no-resave-data tadar StartedAt: 2024-06-10 05:48:22 -0400 (Mon, 10 Jun 2024) EndedAt: 2024-06-10 05:50:50 -0400 (Mon, 10 Jun 2024) EllapsedTime: 147.7 seconds RetCode: 0 Status: OK PackageFile: tadar_1.2.0.tar.gz PackageFileSize: 1.69 MiB