Package: tadar Version: 1.2.0 Command: rm -rf tadar.buildbin-libdir && mkdir tadar.buildbin-libdir && /Users/biocbuild/BBS/utils/build-universal.sh tadar_1.2.0.tar.gz /Library/Frameworks/R.framework/Resources/bin/R tadar.buildbin-libdir StartedAt: 2024-06-11 13:29:53 -0400 (Tue, 11 Jun 2024) EndedAt: 2024-06-11 13:31:42 -0400 (Tue, 11 Jun 2024) EllapsedTime: 109.2 seconds RetCode: 0 Status: OK PackageFile: tadar_1.2.0.tgz PackageFileSize: 1.456 MiB