Package: tadar Version: 1.2.1 Command: /Library/Frameworks/R.framework/Resources/bin/R CMD INSTALL tadar StartedAt: 2024-10-16 17:23:42 -0400 (Wed, 16 Oct 2024) EndedAt: 2024-10-16 17:24:42 -0400 (Wed, 16 Oct 2024) EllapsedTime: 59.8 seconds RetCode: 0 Status: OK